BEGIN:VCALENDAR
VERSION:2.0
PRODID:-//La Séguinière - ECPv6.15.11//NONSGML v1.0//EN
CALSCALE:GREGORIAN
METHOD:PUBLISH
X-ORIGINAL-URL:https://www.mairie-laseguiniere.fr
X-WR-CALDESC:Évènements pour La Séguinière
REFRESH-INTERVAL;VALUE=DURATION:PT1H
X-Robots-Tag:noindex
X-PUBLISHED-TTL:PT1H
BEGIN:VTIMEZONE
TZID:Europe/Paris
BEGIN:DAYLIGHT
TZOFFSETFROM:+0100
TZOFFSETTO:+0200
TZNAME:CEST
DTSTART:20250330T010000
END:DAYLIGHT
BEGIN:STANDARD
TZOFFSETFROM:+0200
TZOFFSETTO:+0100
TZNAME:CET
DTSTART:20251026T010000
END:STANDARD
BEGIN:DAYLIGHT
TZOFFSETFROM:+0100
TZOFFSETTO:+0200
TZNAME:CEST
DTSTART:20260329T010000
END:DAYLIGHT
BEGIN:STANDARD
TZOFFSETFROM:+0200
TZOFFSETTO:+0100
TZNAME:CET
DTSTART:20261025T010000
END:STANDARD
BEGIN:DAYLIGHT
TZOFFSETFROM:+0100
TZOFFSETTO:+0200
TZNAME:CEST
DTSTART:20270328T010000
END:DAYLIGHT
BEGIN:STANDARD
TZOFFSETFROM:+0200
TZOFFSETTO:+0100
TZNAME:CET
DTSTART:20271031T010000
END:STANDARD
END:VTIMEZONE
BEGIN:VEVENT
DTSTART;TZID=Europe/Paris:20260319T090000
DTEND;TZID=Europe/Paris:20260319T120000
DTSTAMP:20260423T053843
CREATED:20260301T194702Z
LAST-MODIFIED:20260301T194702Z
UID:7062-1773910800-1773921600@www.mairie-laseguiniere.fr
SUMMARY:Matinée récréative
DESCRIPTION:
URL:https://www.mairie-laseguiniere.fr/evenement/matinee-recreative/
LOCATION:Complexe Sportif Pierre de Coubertin\, Rue de Coubertin\, LA SEGUINIERE\, 49280\, France
CATEGORIES:Association,Loisir,Sportifs
ATTACH;FMTTYPE=image/jpeg:https://www.mairie-laseguiniere.fr/wp-content/uploads/2026/03/Petite_enfance_mars_2026_2.jpg
ORGANIZER;CN="Centre Socioculturel Ocsig%C3%A8ne":MAILTO:accueil@ocsigene.fr
END:VEVENT
END:VCALENDAR