BEGIN:VCALENDAR
VERSION:2.0
PRODID:-//La Séguinière - ECPv6.15.11//NONSGML v1.0//EN
CALSCALE:GREGORIAN
METHOD:PUBLISH
X-ORIGINAL-URL:https://www.mairie-laseguiniere.fr
X-WR-CALDESC:Évènements pour La Séguinière
REFRESH-INTERVAL;VALUE=DURATION:PT1H
X-Robots-Tag:noindex
X-PUBLISHED-TTL:PT1H
BEGIN:VTIMEZONE
TZID:Europe/Paris
BEGIN:DAYLIGHT
TZOFFSETFROM:+0100
TZOFFSETTO:+0200
TZNAME:CEST
DTSTART:20250330T010000
END:DAYLIGHT
BEGIN:STANDARD
TZOFFSETFROM:+0200
TZOFFSETTO:+0100
TZNAME:CET
DTSTART:20251026T010000
END:STANDARD
BEGIN:DAYLIGHT
TZOFFSETFROM:+0100
TZOFFSETTO:+0200
TZNAME:CEST
DTSTART:20260329T010000
END:DAYLIGHT
BEGIN:STANDARD
TZOFFSETFROM:+0200
TZOFFSETTO:+0100
TZNAME:CET
DTSTART:20261025T010000
END:STANDARD
BEGIN:DAYLIGHT
TZOFFSETFROM:+0100
TZOFFSETTO:+0200
TZNAME:CEST
DTSTART:20270328T010000
END:DAYLIGHT
BEGIN:STANDARD
TZOFFSETFROM:+0200
TZOFFSETTO:+0100
TZNAME:CET
DTSTART:20271031T010000
END:STANDARD
END:VTIMEZONE
BEGIN:VEVENT
DTSTART;TZID=Europe/Paris:20260315T140000
DTEND;TZID=Europe/Paris:20260315T180000
DTSTAMP:20260423T054203
CREATED:20260301T181620Z
LAST-MODIFIED:20260301T181620Z
UID:7050-1773583200-1773597600@www.mairie-laseguiniere.fr
SUMMARY:Exposition sur la période 1939-1945 vécue à la Séguinière
DESCRIPTION:
URL:https://www.mairie-laseguiniere.fr/evenement/exposition-sur-la-periode-1939-1945-vecue-a-la-seguiniere-2/
LOCATION:Salle Roger DRONNEAU\, 20 rue du Manoir\, LA SEGUINIERE\, 49280
CATEGORIES:Association,Loisir,Mairie,Spectacle
ATTACH;FMTTYPE=image/jpeg:https://www.mairie-laseguiniere.fr/wp-content/uploads/2026/03/Expo3945.jpg
ORGANIZER;CN="Histoire et Patrimoine":MAILTO:histoireetpatrimoine.laseg@gmail.com
END:VEVENT
END:VCALENDAR