BEGIN:VCALENDAR
VERSION:2.0
PRODID:-//La Séguinière - ECPv6.15.11//NONSGML v1.0//EN
CALSCALE:GREGORIAN
METHOD:PUBLISH
X-ORIGINAL-URL:https://www.mairie-laseguiniere.fr
X-WR-CALDESC:Évènements pour La Séguinière
REFRESH-INTERVAL;VALUE=DURATION:PT1H
X-Robots-Tag:noindex
X-PUBLISHED-TTL:PT1H
BEGIN:VTIMEZONE
TZID:Europe/Paris
BEGIN:DAYLIGHT
TZOFFSETFROM:+0100
TZOFFSETTO:+0200
TZNAME:CEST
DTSTART:20250330T010000
END:DAYLIGHT
BEGIN:STANDARD
TZOFFSETFROM:+0200
TZOFFSETTO:+0100
TZNAME:CET
DTSTART:20251026T010000
END:STANDARD
BEGIN:DAYLIGHT
TZOFFSETFROM:+0100
TZOFFSETTO:+0200
TZNAME:CEST
DTSTART:20260329T010000
END:DAYLIGHT
BEGIN:STANDARD
TZOFFSETFROM:+0200
TZOFFSETTO:+0100
TZNAME:CET
DTSTART:20261025T010000
END:STANDARD
BEGIN:DAYLIGHT
TZOFFSETFROM:+0100
TZOFFSETTO:+0200
TZNAME:CEST
DTSTART:20270328T010000
END:DAYLIGHT
BEGIN:STANDARD
TZOFFSETFROM:+0200
TZOFFSETTO:+0100
TZNAME:CET
DTSTART:20271031T010000
END:STANDARD
END:VTIMEZONE
BEGIN:VEVENT
DTSTART;TZID=Europe/Paris:20260311T143000
DTEND;TZID=Europe/Paris:20260311T163000
DTSTAMP:20260423T053939
CREATED:20260301T181119Z
LAST-MODIFIED:20260301T181119Z
UID:7043-1773239400-1773246600@www.mairie-laseguiniere.fr
SUMMARY:L'attaque des écureuils
DESCRIPTION:
URL:https://www.mairie-laseguiniere.fr/evenement/lattaque-des-ecureuils/
LOCATION:Bibliothèque Mille pages\, Avenue Abbé Chauveau\, LA SEGUINIERE\, 49280\, France
CATEGORIES:Association,Loisir,Mairie
ATTACH;FMTTYPE=image/jpeg:https://www.mairie-laseguiniere.fr/wp-content/uploads/2026/03/ATTAQUE_DES_ECUREUILS_11_03_2026.jpg
END:VEVENT
END:VCALENDAR