BEGIN:VCALENDAR
VERSION:2.0
PRODID:-//La Séguinière - ECPv6.15.11//NONSGML v1.0//EN
CALSCALE:GREGORIAN
METHOD:PUBLISH
X-ORIGINAL-URL:https://www.mairie-laseguiniere.fr
X-WR-CALDESC:Évènements pour La Séguinière
REFRESH-INTERVAL;VALUE=DURATION:PT1H
X-Robots-Tag:noindex
X-PUBLISHED-TTL:PT1H
BEGIN:VTIMEZONE
TZID:Europe/Paris
BEGIN:DAYLIGHT
TZOFFSETFROM:+0100
TZOFFSETTO:+0200
TZNAME:CEST
DTSTART:20240331T010000
END:DAYLIGHT
BEGIN:STANDARD
TZOFFSETFROM:+0200
TZOFFSETTO:+0100
TZNAME:CET
DTSTART:20241027T010000
END:STANDARD
BEGIN:DAYLIGHT
TZOFFSETFROM:+0100
TZOFFSETTO:+0200
TZNAME:CEST
DTSTART:20250330T010000
END:DAYLIGHT
BEGIN:STANDARD
TZOFFSETFROM:+0200
TZOFFSETTO:+0100
TZNAME:CET
DTSTART:20251026T010000
END:STANDARD
BEGIN:DAYLIGHT
TZOFFSETFROM:+0100
TZOFFSETTO:+0200
TZNAME:CEST
DTSTART:20260329T010000
END:DAYLIGHT
BEGIN:STANDARD
TZOFFSETFROM:+0200
TZOFFSETTO:+0100
TZNAME:CET
DTSTART:20261025T010000
END:STANDARD
END:VTIMEZONE
BEGIN:VEVENT
DTSTART;TZID=Europe/Paris:20251109T080000
DTEND;TZID=Europe/Paris:20251109T143000
DTSTAMP:20260423T204930
CREATED:20251017T124614Z
LAST-MODIFIED:20251017T124614Z
UID:6694-1762675200-1762698600@www.mairie-laseguiniere.fr
SUMMARY:43ème édition de la randonnée du Bouchot
DESCRIPTION:
URL:https://www.mairie-laseguiniere.fr/evenement/43eme-edition-de-la-randonnee-du-bouchot/
CATEGORIES:Association,Loisir,Sportifs
ATTACH;FMTTYPE=image/jpeg:https://www.mairie-laseguiniere.fr/wp-content/uploads/2025/10/2025-11-09-Randonnee_Bouchot.jpg
ORGANIZER;CN="Association SVS V%C3%A9lo Sport":MAILTO:SVS.CYCLOVTT@laposte.net
END:VEVENT
BEGIN:VEVENT
DTSTART;TZID=Europe/Paris:20251109T120000
DTEND;TZID=Europe/Paris:20251109T190000
DTSTAMP:20260423T204930
CREATED:20251017T125045Z
LAST-MODIFIED:20251017T125045Z
UID:6697-1762689600-1762714800@www.mairie-laseguiniere.fr
SUMMARY:Fête des boudins
DESCRIPTION:
URL:https://www.mairie-laseguiniere.fr/evenement/fete-des-boudins/
LOCATION:Complexe Sportif Pierre de Coubertin\, Rue de Coubertin\, LA SEGUINIERE\, 49280\, France
CATEGORIES:Association,Concert,Loisir,Spectacle
ATTACH;FMTTYPE=image/jpeg:https://www.mairie-laseguiniere.fr/wp-content/uploads/2025/10/2025-11-09-Fete_des_boudins.jpg
END:VEVENT
END:VCALENDAR