BEGIN:VCALENDAR
VERSION:2.0
PRODID:-//La Séguinière - ECPv6.15.11//NONSGML v1.0//EN
CALSCALE:GREGORIAN
METHOD:PUBLISH
X-WR-CALNAME:La Séguinière
X-ORIGINAL-URL:https://www.mairie-laseguiniere.fr
X-WR-CALDESC:Évènements pour La Séguinière
REFRESH-INTERVAL;VALUE=DURATION:PT1H
X-Robots-Tag:noindex
X-PUBLISHED-TTL:PT1H
BEGIN:VTIMEZONE
TZID:Europe/Paris
BEGIN:DAYLIGHT
TZOFFSETFROM:+0100
TZOFFSETTO:+0200
TZNAME:CEST
DTSTART:20250330T010000
END:DAYLIGHT
BEGIN:STANDARD
TZOFFSETFROM:+0200
TZOFFSETTO:+0100
TZNAME:CET
DTSTART:20251026T010000
END:STANDARD
BEGIN:DAYLIGHT
TZOFFSETFROM:+0100
TZOFFSETTO:+0200
TZNAME:CEST
DTSTART:20260329T010000
END:DAYLIGHT
BEGIN:STANDARD
TZOFFSETFROM:+0200
TZOFFSETTO:+0100
TZNAME:CET
DTSTART:20261025T010000
END:STANDARD
BEGIN:DAYLIGHT
TZOFFSETFROM:+0100
TZOFFSETTO:+0200
TZNAME:CEST
DTSTART:20270328T010000
END:DAYLIGHT
BEGIN:STANDARD
TZOFFSETFROM:+0200
TZOFFSETTO:+0100
TZNAME:CET
DTSTART:20271031T010000
END:STANDARD
END:VTIMEZONE
BEGIN:VEVENT
DTSTART;TZID=Europe/Paris:20260522T190000
DTEND;TZID=Europe/Paris:20260522T230000
DTSTAMP:20260423T012158
CREATED:20260301T182652Z
LAST-MODIFIED:20260301T182652Z
UID:7057-1779476400-1779490800@www.mairie-laseguiniere.fr
SUMMARY:Garderie solidaire - Môm'en pour soi
DESCRIPTION:
URL:https://www.mairie-laseguiniere.fr/evenement/garderie-solidaire-momen-pour-soi-3/
LOCATION:CSI OCSIGENE\, 18 Rue de l’Anjou\, Saint léger sous Cholet\, 49280\, France
CATEGORIES:Association,Loisir,Mairie
ATTACH;FMTTYPE=image/jpeg:https://www.mairie-laseguiniere.fr/wp-content/uploads/2026/03/Garderie_solidaire_mars_2026.jpg
ORGANIZER;CN="Centre Socioculturel Ocsig%C3%A8ne":MAILTO:accueil@ocsigene.fr
END:VEVENT
BEGIN:VEVENT
DTSTART;TZID=Europe/Paris:20260530T153000
DTEND;TZID=Europe/Paris:20260530T183000
DTSTAMP:20260423T012158
CREATED:20260420T173020Z
LAST-MODIFIED:20260420T173325Z
UID:7232-1780155000-1780165800@www.mairie-laseguiniere.fr
SUMMARY:La Run Color est de retour ...
DESCRIPTION:La Run Color est de retour et sera « Familiale » cette année \nAprès l’organisation de la Run Color Adulte l’année dernière en partenariat avec la Mairie de la Séguinière et le CSI\, L’association LES BLEDRUNNERS se lance en solo dans une version familiale toujours avec le soutien logistique de la municipalité. \nElle se déroulera le samedi 30 Mai 2026 au moulin de la cour sur un parcours de 2 kms à réaliser 1\, 2 ou 3 fois en fonction de vos envies. \nElle est ouverte à toute personne à partir de 8 ans durant laquelle de la poudre colorée est jetée sur les participants à plusieurs points de passage. \nL’inscription est au prix de:\n– 10€ à partir de 12 ans\n– 8€ de 8 à 12 ans. \nUn challenge est proposé permettant de récompenser l’équipe qui réunit le plus de participants.\nL’inscription s’effectue uniquement via Helloasso et une attestation parentale sera demandée pour les mineurs lors de l’inscription.\nHelloasso de la RunColor\nLe retrait des kits se fera à partir de 15h30 sur place pour un départ donné à 17h.\nUn bar vous accueillera au départ\, mais surtout à l’arrivée\, pour vous permettre de vous désaltérer après ce bon moment et échanger avec les autres participants ! \nVenez nombreux et nombreuses.\nLES BLEDRUNNERS
URL:https://www.mairie-laseguiniere.fr/evenement/la-run-color-est-de-retour/
LOCATION:Moulin de la Cour\, Chemin du Moulin de la Cour\, LA SEGUINIERE\, 49280\, France
CATEGORIES:Association,Sportifs
ATTACH;FMTTYPE=image/jpeg:https://www.mairie-laseguiniere.fr/wp-content/uploads/2026/04/2026-05-30-RunColor.jpg
ORGANIZER;CN="Les Bledrunners":MAILTO:lesbledrunners@gmail.com
END:VEVENT
END:VCALENDAR