BEGIN:VCALENDAR
VERSION:2.0
PRODID:-//La Séguinière - ECPv6.15.11//NONSGML v1.0//EN
CALSCALE:GREGORIAN
METHOD:PUBLISH
X-WR-CALNAME:La Séguinière
X-ORIGINAL-URL:https://www.mairie-laseguiniere.fr
X-WR-CALDESC:Évènements pour La Séguinière
REFRESH-INTERVAL;VALUE=DURATION:PT1H
X-Robots-Tag:noindex
X-PUBLISHED-TTL:PT1H
BEGIN:VTIMEZONE
TZID:Europe/Paris
BEGIN:DAYLIGHT
TZOFFSETFROM:+0100
TZOFFSETTO:+0200
TZNAME:CEST
DTSTART:20240331T010000
END:DAYLIGHT
BEGIN:STANDARD
TZOFFSETFROM:+0200
TZOFFSETTO:+0100
TZNAME:CET
DTSTART:20241027T010000
END:STANDARD
BEGIN:DAYLIGHT
TZOFFSETFROM:+0100
TZOFFSETTO:+0200
TZNAME:CEST
DTSTART:20250330T010000
END:DAYLIGHT
BEGIN:STANDARD
TZOFFSETFROM:+0200
TZOFFSETTO:+0100
TZNAME:CET
DTSTART:20251026T010000
END:STANDARD
BEGIN:DAYLIGHT
TZOFFSETFROM:+0100
TZOFFSETTO:+0200
TZNAME:CEST
DTSTART:20260329T010000
END:DAYLIGHT
BEGIN:STANDARD
TZOFFSETFROM:+0200
TZOFFSETTO:+0100
TZNAME:CET
DTSTART:20261025T010000
END:STANDARD
END:VTIMEZONE
BEGIN:VEVENT
DTSTART;VALUE=DATE:20251218
DTEND;VALUE=DATE:20251220
DTSTAMP:20260423T133327
CREATED:20251128T211546Z
LAST-MODIFIED:20251128T211727Z
UID:6802-1766016000-1766188799@www.mairie-laseguiniere.fr
SUMMARY:La caravane séniors « LISA » arrive
DESCRIPTION:La caravane séniors « LISA » arrive sur notre commune le 18 et 19 Décembre 2025.\n\nPour donner suite aux constats suivants :\n -	Difficultés de mobilité liées à la perte d’autonomie et/ou à l’absence de transport véhiculé\,\n -	L’éloignement des lieux d’accueil physique\n -	Les inégalités d’accès à l’information\n -	La dématérialisation administrative \nLes objectifs du véhicule itinérant :\n -	D’aller vers les séniors sur l’ensemble du territoire de Cholet Agglomération notamment ceux isolés ou éloignés des services\n -	De les informer sur leurs droits\, les aides disponibles\, la santé\, le numérique\, la sécurité et les loisirs.\n -	De les orienter vers les services adéquats\,\n -	De contribuer au lien social avec les partenaires du territoire\n -	De contribuer à la valorisation des partenaires investis auprès de ce public.
URL:https://www.mairie-laseguiniere.fr/evenement/6802/
LOCATION:Place de la Mairie\, Avenue Abbé Chauveau\, La Séguinière\, 49280\, France
CATEGORIES:Association,Information municipale,Loisir
ATTACH;FMTTYPE=image/png:https://www.mairie-laseguiniere.fr/wp-content/uploads/2025/11/Bandeau-site-web-commune-png-ou-jpg.png
END:VEVENT
BEGIN:VEVENT
DTSTART;TZID=Europe/Paris:20251220T093000
DTEND;TZID=Europe/Paris:20251220T170000
DTSTAMP:20260423T133327
CREATED:20251128T205219Z
LAST-MODIFIED:20251128T205253Z
UID:6795-1766223000-1766250000@www.mairie-laseguiniere.fr
SUMMARY:Une journée d'atelier
DESCRIPTION:
URL:https://www.mairie-laseguiniere.fr/evenement/une-journee-datelier/
CATEGORIES:Association
ATTACH;FMTTYPE=image/jpeg:https://www.mairie-laseguiniere.fr/wp-content/uploads/2025/11/2025-12-20-Bonne-patte.jpg
ORGANIZER;CN="Association la bonne patte":MAILTO:labonnepatte49@gmail.com
END:VEVENT
END:VCALENDAR